BEGIN:VCALENDAR
VERSION:2.0
PRODID:GIGPRESS 2.0 WORDPRESS PLUGIN
CALSCALE:GREGORIAN
X-WR-TIMEZONE:Etc/GMT
METHOD:PUBLISH
BEGIN:VTIMEZONE
TZID:GMT
BEGIN:STANDARD
DTSTART:20071028T010000
TZOFFSETTO:+0000
TZOFFSETFROM:+0000
END:STANDARD
END:VTIMEZONE
BEGIN:VEVENT
SUMMARY:Traktorkestar \, Heubühne Bienzgut\, Bümpliz
DESCRIPTION:Tour: Tour Brut. Anmerkungen: Doors: 19h 
LOCATION:Heubühne Bienzgut\, Bümpliz\, Bernstrasse 77\, Bern\, CH
UID:20260509T200000Z-334-samuelwuergler@gmail.com
URL:https://www.samuelwuergler.ch/live/
DTSTART;VALUE=DATE-TIME;TZID=GMT:20260509T200000Z
DTEND;VALUE=DATE-TIME;TZID=GMT:20260509T200000Z
DTSTAMP:20260420T094724Z
END:VEVENT
END:VCALENDAR